BEGIN:VCALENDAR
VERSION:2.0
PRODID:-//福島県eスポーツ協会（FSeSA）公式サイト - ECPv5.14.1//NONSGML v1.0//EN
CALSCALE:GREGORIAN
METHOD:PUBLISH
X-WR-CALNAME:福島県eスポーツ協会（FSeSA）公式サイト
X-ORIGINAL-URL:https://fukushima-esports.com
X-WR-CALDESC:福島県eスポーツ協会（FSeSA）公式サイト のイベント
BEGIN:VTIMEZONE
TZID:Asia/Tokyo
BEGIN:STANDARD
TZOFFSETFROM:+0900
TZOFFSETTO:+0900
TZNAME:JST
DTSTART:20200101T000000
END:STANDARD
END:VTIMEZONE
BEGIN:VEVENT
DTSTART;TZID=Asia/Tokyo:20200307T150000
DTEND;TZID=Asia/Tokyo:20200307T150000
DTSTAMP:20260423T074059
CREATED:20191124T024945Z
LAST-MODIFIED:20191127T005136Z
UID:3929-1583593200-1583593200@fukushima-esports.com
SUMMARY:闘神祭（GUILTY GEAR Xrd REV 2 ）北海道・東北エリア Aブロック（タイトーアミューズメントシティ郡山）
DESCRIPTION:ゲームタイトル\nGUILTY GEAR Xrd REV 2 \n出場枠数　16枠\n店舗金キップ 15枠\n当日予選 1枠\n※前年度優勝特別枠はございません \n大会ルール\n3on3(チーム戦)\n※敗者復活戦無し \n先鋒申告制（先鋒の選手と使用キャラを相手チームに聞こえない様にスタッフへ申告）\n1試合2ラウンド先取制による勝ち抜き戦(対戦相手全員に勝利することで決着とする)\n全キャラクター使用可能\n試合ごとのキャラクターの変更可能\n※マッチ中、勝利した選手は変更不可 \n同チーム内での同キャラクターの選択は不可\n試合前にチームの代表者同士でじゃんけんをし、勝った方がコントロールパネル(1P/2P）を選択する\n筐体の設定はイベントモード（「VS ONLY」＆「ARENA」ONLY）を使用\n試合は大会開催日時点で配信している最新バージョンにて行うものとする\nその他、工場出荷設定に準拠する\n※予選、決勝ともにAPM2版のみを使用いたします \nゲーム動作がおかしいなどが発生した場合、即座にプレイをストップしスタッフに申告すること\n※スタッフが検証の結果、異常が認められない場合はその選手を敗北扱いとする場合がございます（チームではありません） \n大会注意事項\n「闘神祭2020 ～World Championship of ARCADE～」では、以下の行為を禁止事項とします。 \nエントリー\nエントリー情報に意図的に虚偽の内容を入力する行為。\n同一のトーナメントに意図的に重複してエントリーを行い、運営に影響を与える行為。\n会場内での行為\n指定されたエリア以外での飲食や喫煙。\nハラスメント行為や不適切な言動・行動。\n賭博に類する行為。\n公序良俗・モラル・スポーツマンシップに反する行為。\nその他、運営および施設管理者が不適切と判断する行為。\n対戦中の行為\n相手に、意図的に負けるよう働きかける行為。\nゲーム機器破壊や電源オフなど対戦を故意的に中断する行為。\n対戦中に大声を発したり騒いだりして試合進行に影響を与える行為。（オーディエンスも含む）\n※チームメイトに対する応援の声がけはこの限りではありません。 \n大会参加に関して\n指定された対戦時間に対戦場所にいない、または遅刻する行為。\n大会の進行や運営を意図的に妨害するような行為。\n運営スタッフの指示に従わない行為。 \nペナルティ\n上記規約に違反していると運営側で判断した場合、ペナルティを与えることがあります。\n違反者に課されるペナルティは、タイトルの剥奪、決勝出場資格の剥奪、エントリーの無効、出場禁止などを含みます。\n違反行為の度合いにより、与えるペナルティは運営の方で決定します。 \nその他\n大会ルールは公正かつ円滑に大会運営を行うために定めています。\n闘神祭運営チームはその時々における事情を鑑み、予選の進行や参加者の公平性を妨げない範囲でのルールの加筆・修正を行う場合があります。\nまた、各タイトルのアップデート状況や、その他の状況により各タイトルのルールは必要に応じて加筆・修正されます。\nルールに変更があった場合は速やかに公式サイト、およびSNSなどでお知らせいたします。\n本大会は、都合により、その全部又は一部の中止・変更等を行う場合があります。この場合、速やかに公式サイト、およびSNSなどでお知らせいたします。
URL:https://fukushima-esports.com/schedule/tousinsai-gg/
LOCATION:タイトーアミューズメントシティ郡山\, 南2-38\, 郡山市\, 福島県\, 日本
CATEGORIES:大会
ATTACH;FMTTYPE=image/png:https://fukushima-esports.com/wp-content/uploads/2019/11/toushinsai2020_title_ggxrd.png
END:VEVENT
END:VCALENDAR